Workbook

Sheet Aufstellung
A2: Amortisation mit Einzahlungen und Auszahlungen kumuliert (Jahre)
B4: 2019 | C4: =B4+1 -> 2020 | D4: =C4+1 -> 2021 | E4: =D4+1 -> 2022 | F4: =E4+1 -> 2023 | G4: =F4+1 -> 2024 | H4: =G4+1 -> 2025 | I4: =H4+1 -> 2026 | J4: =I4+1 -> 2027 | ... M4: =L4+1 -> 2030
A5: Einzahlung 1 | D5: 3000 | E5: 3000 | F5: 3000 | G5: 1589 | H5: 1615 | I5: 1985 | J5: 1068 | K5: 1080 | L5: 1204 | M5: 1259
A6: Einzahlung 2 | D6: 3000 | E6: 3000 | F6: 3000 | G6: 1272 | H6: 1120 | I6: 1248 | J6: 1493 | K6: 1086 | L6: 1016 | M6: 1540
A7: Einzahlung 3 | D7: 5000 | E7: 5000 | F7: 5000 | G7: 1412 | H7: 1202 | I7: 1515 | J7: 1011 | K7: 1266 | L7: 1678 | M7: 1424
A8: Einzahlung 4 | D8: 1958 | E8: 1082 | F8: 1116 | G8: 1617 | H8: 1686 | I8: 1724 | J8: 1074 | K8: 1644 | L8: 1290 | M8: 1159
A9: Einzahlung 5 | D9: 1249 | E9: 1269 | F9: 1281 | G9: 1891 | H9: 1928 | I9: 1390 | J9: 1501 | K9: 1169 | L9: 1909 | M9: 1487
A10: Einzahlung 6 | D10: 1885 | E10: 1529 | F10: 1694 | G10: 1813 | H10: 1851 | I10: 1457 | J10: 1374 | K10: 1413 | L10: 1015 | M10: 1689
A11: Einzahlungen | B11: =SUM(B5:B10) -> 0 | C11: =SUM(C5:C10) -> 0 | D11: =SUM(D5:D10) -> 16092 | E11: =SUM(E5:E10) -> 14880 | F11: =SUM(F5:F10) -> 15091 | G11: =SUM(G5:G10) -> 9594 | H11: =SUM(H5:H10) -> 9402 | I11: =SUM(I5:I10) -> 9319 | ... M11: =SUM(M5:M10) -> 8558
A12: Auszahlung 1 | B12: 755 | C12: 450 | D12: 458 | E12: 231 | F12: 432 | G12: 323 | H12: 779 | I12: 684 | J12: 867 | K12: 723 | L12: 588 | M12: 255
A13: Auszahlung 2 | B13: 901 | C13: 430 | D13: 434 | E13: 674 | F13: 374 | G13: 249 | H13: 942 | I13: 417 | J13: 597 | K13: 546 | L13: 585 | M13: 269
A14: Auszahlung 3 | B14: 843 | C14: 713 | D14: 461 | E14: 784 | F14: 241 | G14: 496 | H14: 240 | I14: 958 | J14: 878 | K14: 270 | L14: 320 | M14: 775
A15: Auszahlung 4 | B15: 245 | C15: 20000 | D15: 679 | E15: 731 | F15: 393 | G15: 192 | H15: 129 | I15: 675 | J15: 911 | K15: 275 | L15: 713 | M15: 956
A16: Auszahlung 5 | B16: 730 | C16: 337 | D16: 311 | E16: 144 | F16: 202 | G16: 327 | H16: 615 | I16: 626 | J16: 927 | K16: 948 | L16: 147 | M16: 803
A17: Auszahlung 6 | B17: 244 | C17: 696 | D17: 609 | E17: 275 | F17: 749 | G17: 355 | H17: 960 | I17: 225 | J17: 912 | K17: 969 | L17: 878 | M17: 813
A18: Auszahlungen | B18: =SUM(B12:B17) -> 3718 | C18: =SUM(C12:C17) -> 22626 | D18: =SUM(D12:D17) -> 2952 | E18: =SUM(E12:E17) -> 2839 | F18: =SUM(F12:F17) -> 2391 | G18: =SUM(G12:G17) -> 1942 | H18: =SUM(H12:H17) -> 3665 | I18: =SUM(I12:I17) -> 3585 | ... M18: =SUM(M12:M17) -> 3871
A20: Einzahlungen kumuliert | B20: =B11-B18 -> -3718 | C20: =B20+C11-C18 -> -26344 | D20: =C20+D11-D18 -> -13204 | E20: =D20+E11-E18 -> -1163 | F20: =E20+F11-F18 -> 11537 | G20: =F20+G11-G18 -> 19189 | H20: =G20+H11-H18 -> 24926 | I20: =H20+I11-I18 -> 30660 | J20: =I20+J11-J18 -> 33089 | ... M20: =L20+M11-M18 -> 46584
A21: Nulllinie | B21: 0 | C21: 0 | D21: 0 | E21: 0 | F21: 0 | G21: 0 | H21: 0 | I21: 0 | J21: 0 | K21: 0 | L21: 0 | M21: 0

Sheet Diagrammdaten
A2: y | B2: 0 | L2: 0 | V2: 0 | AF2: 0 | AP2: 0 | AZ2: 0 | BJ2: 0 | BT2: 0 | CD2: 0 | CN2: 0 | CX2: 0 | DH2: 0
A3: x | B3: 1 | C3: 2 | D3: 3 | E3: 4 | F3: 5 | G3: 6 | H3: 7 | I3: 8 | J3: 9 | K3: 10 | L3: 11 | M3: 12 | N3: 13 | O3: 14 | P3: 15 | Q3: 16 | R3: 17 | S3: 18 | T3: 19 | U3: 20 | V3: 21 | W3: 22 | X3: 23 | Y3: 24 | Z3: 25 | AA3: 26 | AB3: 27 | AC3: 28 | AD3: 29 | AE3: 30 | AF3: 31 | AG3: 32 | AH3: 33 | AI3: 34 | AJ3: 35 | AK3: 36 | AL3: 37 | AM3: 38 | AN3: 39 | AO3: 40 | AP3: 41 | AQ3: 42 | AR3: 43 | AS3: 44 | AT3: 45 | AU3: 46 | AV3: 47 | AW3: 48 | AX3: 49 | AY3: 50 | AZ3: 51 | BA3: 52 | BB3: 53 | BC3: 54 | BD3: 55 | BE3: 56 | BF3: 57 | BG3: 58 | BH3: 59 | BI3: 60 | BJ3: 61 | BK3: 62 | BL3: 63 | BM3: 64 | BN3: 65 | BO3: 66 | BP3: 67 | BQ3: 68 | BR3: 69 | BS3: 70 | BT3: 71 | BU3: 72 | BV3: 73 | BW3: 74 | BX3: 75 | BY3: 76 | BZ3: 77 | CA3: 78 | CB3: 79 | CC3: 80 | CD3: 81 | CE3: 82 | CF3: 83 | CG3: 84 | CH3: 85 | CI3: 86 | CJ3: 87 | CK3: 88 | CL3: 89 | CM3: 90 | CN3: 91 | CO3: 92 | CP3: 93 | CQ3: 94 | CR3: 95 | CS3: 96 | CT3: 97 | CU3: 98 | CV3: 99 | CW3: 100 | CX3: 101 | CY3: 102 | CZ3: 103 | DA3: 104 | DB3: 105 | DC3: 106 | DD3: 107 | DE3: 108 | DF3: 109 | DG3: 110 | DH3: 111
A4: Achsenbeschriftung | B4: =Aufstellung!B4 -> 2019 | L4: =Aufstellung!C4 -> 2020 | V4: =Aufstellung!D4 -> 2021 | AF4: =Aufstellung!E4 -> 2022 | AP4: =Aufstellung!F4 -> 2023 | AZ4: =Aufstellung!G4 -> 2024 | BJ4: =Aufstellung!H4 -> 2025 | BT4: =Aufstellung!I4 -> 2026 | CD4: =Aufstellung!J4 -> 2027 | CN4: =Aufstellung!K4 -> 2028 | CX4: =Aufstellung!L4 -> 2029 | DH4: =Aufstellung!M4 -> 2030
B5: =Aufstellung!B21 -> 0 | C5: =(L5-B5)/10+B5 -> 0 | D5: =(L5-B5)/10+C5 -> 0 | E5: =(L5-B5)/10+D5 -> 0 | F5: =(L5-B5)/10+E5 -> 0 | G5: =(L5-B5)/10+F5 -> 0 | H5: =(L5-B5)/10+G5 -> 0 | I5: =(L5-B5)/10+H5 -> 0 | J5: =(L5-B5)/10+I5 -> 0 | K5: =(L5-B5)/10+J5 -> 0 | L5: =Aufstellung!C21 -> 0 | M5: =(V5-L5)/10+L5 -> 0 | N5: =(V5-L5)/10+M5 -> 0 | O5: =(V5-L5)/10+N5 -> 0 | P5: =(V5-L5)/10+O5 -> 0 | Q5: =(V5-L5)/10+P5 -> 0 | R5: =(V5-L5)/10+Q5 -> 0 | S5: =(V5-L5)/10+R5 -> 0 | T5: =(V5-L5)/10+S5 -> 0 | U5: =(V5-L5)/10+T5 -> 0 | V5: =Aufstellung!D21 -> 0 | W5: =(AF5-V5)/10+V5 -> 0 | X5: =(AF5-V5)/10+W5 -> 0 | Y5: =(AF5-V5)/10+X5 -> 0 | Z5: =(AF5-V5)/10+Y5 -> 0 | AA5: =(AF5-V5)/10+Z5 -> 0 | AB5: =(AF5-V5)/10+AA5 -> 0 | AC5: =(AF5-V5)/10+AB5 -> 0 | AD5: =(AF5-V5)/10+AC5 -> 0 | AE5: =(AF5-V5)/10+AD5 -> 0 | AF5: =Aufstellung!E21 -> 0 | AG5: =(AP5-AF5)/10+AF5 -> 0 | AH5: =(AP5-AF5)/10+AG5 -> 0 | AI5: =(AP5-AF5)/10+AH5 -> 0 | AJ5: =(AP5-AF5)/10+AI5 -> 0 | AK5: =(AP5-AF5)/10+AJ5 -> 0 | AL5: =(AP5-AF5)/10+AK5 -> 0 | AM5: =(AP5-AF5)/10+AL5 -> 0 | AN5: =(AP5-AF5)/10+AM5 -> 0 | AO5: =(AP5-AF5)/10+AN5 -> 0 | AP5: =Aufstellung!F21 -> 0 | AQ5: =(AZ5-AP5)/10+AP5 -> 0 | AR5: =(AZ5-AP5)/10+AQ5 -> 0 | AS5: =(AZ5-AP5)/10+AR5 -> 0 | AT5: =(AZ5-AP5)/10+AS5 -> 0 | AU5: =(AZ5-AP5)/10+AT5 -> 0 | AV5: =(AZ5-AP5)/10+AU5 -> 0 | AW5: =(AZ5-AP5)/10+AV5 -> 0 | AX5: =(AZ5-AP5)/10+AW5 -> 0 | AY5: =(AZ5-AP5)/10+AX5 -> 0 | AZ5: =Aufstellung!G21 -> 0 | BA5: =(BJ5-AZ5)/10+AZ5 -> 0 | BB5: =(BJ5-AZ5)/10+BA5 -> 0 | BC5: =(BJ5-AZ5)/10+BB5 -> 0 | BD5: =(BJ5-AZ5)/10+BC5 -> 0 | BE5: =(BJ5-AZ5)/10+BD5 -> 0 | BF5: =(BJ5-AZ5)/10+BE5 -> 0 | BG5: =(BJ5-AZ5)/10+BF5 -> 0 | BH5: =(BJ5-AZ5)/10+BG5 -> 0 | BI5: =(BJ5-AZ5)/10+BH5 -> 0 | BJ5: =Aufstellung!H21 -> 0 | BK5: =(BT5-BJ5)/10+BJ5 -> 0 | BL5: =(BT5-BJ5)/10+BK5 -> 0 | BM5: =(BT5-BJ5)/10+BL5 -> 0 | BN5: =(BT5-BJ5)/10+BM5 -> 0 | BO5: =(BT5-BJ5)/10+BN5 -> 0 | BP5: =(BT5-BJ5)/10+BO5 -> 0 | BQ5: =(BT5-BJ5)/10+BP5 -> 0 | BR5: =(BT5-BJ5)/10+BQ5 -> 0 | BS5: =(BT5-BJ5)/10+BR5 -> 0 | BT5: =Aufstellung!I21 -> 0 | BU5: =(CD5-BT5)/10+BT5 -> 0 | BV5: =(CD5-BT5)/10+BU5 -> 0 | BW5: =(CD5-BT5)/10+BV5 -> 0 | BX5: =(CD5-BT5)/10+BW5 -> 0 | BY5: =(CD5-BT5)/10+BX5 -> 0 | BZ5: =(CD5-BT5)/10+BY5 -> 0 | CA5: =(CD5-BT5)/10+BZ5 -> 0 | CB5: =(CD5-BT5)/10+CA5 -> 0 | CC5: =(CD5-BT5)/10+CB5 -> 0 | CD5: =Aufstellung!J21 -> 0 | CE5: =(CN5-CD5)/10+CD5 -> 0 | CF5: =(CN5-CD5)/10+CE5 -> 0 | CG5: =(CN5-CD5)/10+CF5 -> 0 | CH5: =(CN5-CD5)/10+CG5 -> 0 | CI5: =(CN5-CD5)/10+CH5 -> 0 | CJ5: =(CN5-CD5)/10+CI5 -> 0 | CK5: =(CN5-CD5)/10+CJ5 -> 0 | CL5: =(CN5-CD5)/10+CK5 -> 0 | CM5: =(CN5-CD5)/10+CL5 -> 0 | CN5: =Aufstellung!K21 -> 0 | CO5: =(CX5-CN5)/10+CN5 -> 0 | CP5: =(CX5-CN5)/10+CO5 -> 0 | CQ5: =(CX5-CN5)/10+CP5 -> 0 | CR5: =(CX5-CN5)/10+CQ5 -> 0 | CS5: =(CX5-CN5)/10+CR5 -> 0 | CT5: =(CX5-CN5)/10+CS5 -> 0 | CU5: =(CX5-CN5)/10+CT5 -> 0 | CV5: =(CX5-CN5)/10+CU5 -> 0 | CW5: =(CX5-CN5)/10+CV5 -> 0 | CX5: =Aufstellung!L21 -> 0 | CY5: =(DH5-CX5)/10+CX5 -> 0 | CZ5: =(DH5-CX5)/10+CY5 -> 0 | DA5: =(DH5-CX5)/10+CZ5 -> 0 | DB5: =(DH5-CX5)/10+DA5 -> 0 | DC5: =(DH5-CX5)/10+DB5 -> 0 | DD5: =(DH5-CX5)/10+DC5 -> 0 | DE5: =(DH5-CX5)/10+DD5 -> 0 | DF5: =(DH5-CX5)/10+DE5 -> 0 | DG5: =(DH5-CX5)/10+DF5 -> 0 | DH5: =Aufstellung!M21 -> 0
B7: =Aufstellung!B20 -> -3718 | C7: =(L7-B7)/10+B7 -> -5980.6 | D7: =(L7-B7)/10+C7 -> -8243.2 | E7: =(L7-B7)/10+D7 -> -10505.8 | F7: =(L7-B7)/10+E7 -> -12768.4 | G7: =(L7-B7)/10+F7 -> -15031 | H7: =(L7-B7)/10+G7 -> -17293.6 | I7: =(L7-B7)/10+H7 -> -19556.2 | J7: =(L7-B7)/10+I7 -> -21818.8 | K7: =(L7-B7)/10+J7 -> -24081.4 | L7: =Aufstellung!C20 -> -26344 | M7: =(V7-L7)/10+L7 -> -25030 | N7: =(V7-L7)/10+M7 -> -23716 | O7: =(V7-L7)/10+N7 -> -22402 | P7: =(V7-L7)/10+O7 -> -21088 | Q7: =(V7-L7)/10+P7 -> -19774 | R7: =(V7-L7)/10+Q7 -> -18460 | S7: =(V7-L7)/10+R7 -> -17146 | T7: =(V7-L7)/10+S7 -> -15832 | U7: =(V7-L7)/10+T7 -> -14518 | V7: =Aufstellung!D20 -> -13204 | W7: =(AF7-V7)/10+V7 -> -11999.9 | X7: =(AF7-V7)/10+W7 -> -10795.8 | Y7: =(AF7-V7)/10+X7 -> -9591.7 | Z7: =(AF7-V7)/10+Y7 -> -8387.6 | AA7: =(AF7-V7)/10+Z7 -> -7183.5 | AB7: =(AF7-V7)/10+AA7 -> -5979.4 | AC7: =(AF7-V7)/10+AB7 -> -4775.3 | AD7: =(AF7-V7)/10+AC7 -> -3571.2 | AE7: =(AF7-V7)/10+AD7 -> -2367.1 | AF7: =Aufstellung!E20 -> -1163 | AG7: =(AP7-AF7)/10+AF7 -> 107 | AH7: =(AP7-AF7)/10+AG7 -> 1377 | AI7: =(AP7-AF7)/10+AH7 -> 2647 | AJ7: =(AP7-AF7)/10+AI7 -> 3917 | AK7: =(AP7-AF7)/10+AJ7 -> 5187 | AL7: =(AP7-AF7)/10+AK7 -> 6457 | AM7: =(AP7-AF7)/10+AL7 -> 7727 | AN7: =(AP7-AF7)/10+AM7 -> 8997 | AO7: =(AP7-AF7)/10+AN7 -> 10267 | AP7: =Aufstellung!F20 -> 11537 | AQ7: =(AZ7-AP7)/10+AP7 -> 12302.2 | AR7: =(AZ7-AP7)/10+AQ7 -> 13067.4 | AS7: =(AZ7-AP7)/10+AR7 -> 13832.6 | AT7: =(AZ7-AP7)/10+AS7 -> 14597.8 | AU7: =(AZ7-AP7)/10+AT7 -> 15363 | AV7: =(AZ7-AP7)/10+AU7 -> 16128.2 | AW7: =(AZ7-AP7)/10+AV7 -> 16893.4 | AX7: =(AZ7-AP7)/10+AW7 -> 17658.6 | AY7: =(AZ7-AP7)/10+AX7 -> 18423.8 | AZ7: =Aufstellung!G20 -> 19189 | BA7: =(BJ7-AZ7)/10+AZ7 -> 19762.7 | BB7: =(BJ7-AZ7)/10+BA7 -> 20336.4 | BC7: =(BJ7-AZ7)/10+BB7 -> 20910.1 | BD7: =(BJ7-AZ7)/10+BC7 -> 21483.8 | BE7: =(BJ7-AZ7)/10+BD7 -> 22057.5 | BF7: =(BJ7-AZ7)/10+BE7 -> 22631.2 | BG7: =(BJ7-AZ7)/10+BF7 -> 23204.9 | BH7: =(BJ7-AZ7)/10+BG7 -> 23778.6 | BI7: =(BJ7-AZ7)/10+BH7 -> 24352.3 | BJ7: =Aufstellung!H20 -> 24926 | BK7: =(BT7-BJ7)/10+BJ7 -> 25499.4 | BL7: =(BT7-BJ7)/10+BK7 -> 26072.8 | BM7: =(BT7-BJ7)/10+BL7 -> 26646.2 | BN7: =(BT7-BJ7)/10+BM7 -> 27219.6 | BO7: =(BT7-BJ7)/10+BN7 -> 27793 | BP7: =(BT7-BJ7)/10+BO7 -> 28366.4 | BQ7: =(BT7-BJ7)/10+BP7 -> 28939.8 | BR7: =(BT7-BJ7)/10+BQ7 -> 29513.2 | BS7: =(BT7-BJ7)/10+BR7 -> 30086.6 | BT7: =Aufstellung!I20 -> 30660 | BU7: =(CD7-BT7)/10+BT7 -> 30902.9 | BV7: =(CD7-BT7)/10+BU7 -> 31145.8 | BW7: =(CD7-BT7)/10+BV7 -> 31388.7 | BX7: =(CD7-BT7)/10+BW7 -> 31631.6 | BY7: =(CD7-BT7)/10+BX7 -> 31874.5 | BZ7: =(CD7-BT7)/10+BY7 -> 32117.4 | CA7: =(CD7-BT7)/10+BZ7 -> 32360.3 | CB7: =(CD7-BT7)/10+CA7 -> 32603.2 | CC7: =(CD7-BT7)/10+CB7 -> 32846.1 | CD7: =Aufstellung!J20 -> 33089 | CE7: =(CN7-CD7)/10+CD7 -> 33481.7 | CF7: =(CN7-CD7)/10+CE7 -> 33874.4 | CG7: =(CN7-CD7)/10+CF7 -> 34267.1 | CH7: =(CN7-CD7)/10+CG7 -> 34659.8 | CI7: =(CN7-CD7)/10+CH7 -> 35052.5 | CJ7: =(CN7-CD7)/10+CI7 -> 35445.2 | CK7: =(CN7-CD7)/10+CJ7 -> 35837.9 | CL7: =(CN7-CD7)/10+CK7 -> 36230.6 | CM7: =(CN7-CD7)/10+CL7 -> 36623.3 | CN7: =Aufstellung!K20 -> 37016 | CO7: =(CX7-CN7)/10+CN7 -> 37504.1 | CP7: =(CX7-CN7)/10+CO7 -> 37992.2 | CQ7: =(CX7-CN7)/10+CP7 -> 38480.3 | CR7: =(CX7-CN7)/10+CQ7 -> 38968.4 | CS7: =(CX7-CN7)/10+CR7 -> 39456.5 | CT7: =(CX7-CN7)/10+CS7 -> 39944.6 | CU7: =(CX7-CN7)/10+CT7 -> 40432.7 | CV7: =(CX7-CN7)/10+CU7 -> 40920.8 | CW7: =(CX7-CN7)/10+CV7 -> 41408.9 | CX7: =Aufstellung!L20 -> 41897 | CY7: =(DH7-CX7)/10+CX7 -> 42365.7 | CZ7: =(DH7-CX7)/10+CY7 -> 42834.4 | DA7: =(DH7-CX7)/10+CZ7 -> 43303.1 | DB7: =(DH7-CX7)/10+DA7 -> 43771.8 | DC7: =(DH7-CX7)/10+DB7 -> 44240.5 | DD7: =(DH7-CX7)/10+DC7 -> 44709.2 | DE7: =(DH7-CX7)/10+DD7 -> 45177.9 | DF7: =(DH7-CX7)/10+DE7 -> 45646.6 | DG7: =(DH7-CX7)/10+DF7 -> 46115.3 | DH7: =Aufstellung!M20 -> 46584
A9: weise Fläche positiv | B9: =MAX(0,MIN(B7,B5)) -> 0 | C9: =MAX(0,MIN(C7,C5)) -> 0 | D9: =MAX(0,MIN(D7,D5)) -> 0 | E9: =MAX(0,MIN(E7,E5)) -> 0 | F9: =MAX(0,MIN(F7,F5)) -> 0 | G9: =MAX(0,MIN(G7,G5)) -> 0 | H9: =MAX(0,MIN(H7,H5)) -> 0 | I9: =MAX(0,MIN(I7,I5)) -> 0 | ... DH9: =MAX(0,MIN(DH7,DH5)) -> 0
A11: weise Fläche negativ | B11: =IF(MAX(B5,B7)<0,MAX(B5,B7),0) -> 0 | C11: =IF(MAX(C5,C7)<0,MAX(C5,C7),0) -> 0 | D11: =IF(MAX(D5,D7)<0,MAX(D5,D7),0) -> 0 | E11: =IF(MAX(E5,E7)<0,MAX(E5,E7),0) -> 0 | F11: =IF(MAX(F5,F7)<0,MAX(F5,F7),0) -> 0 | G11: =IF(MAX(G5,G7)<0,MAX(G5,G7),0) -> 0 | H11: =IF(MAX(H5,H7)<0,MAX(H5,H7),0) -> 0 | I11: =IF(MAX(I5,I7)<0,MAX(I5,I7),0) -> 0 | ... DH11: =IF(MAX(DH5,DH7)<0,MAX(DH5,DH7),0) -> 0
A13: grüne Fläche positiv | B13: =MAX(B7,0) -> 0 | C13: =MAX(C7,0) -> 0 | D13: =MAX(D7,0) -> 0 | E13: =MAX(E7,0) -> 0 | F13: =MAX(F7,0) -> 0 | G13: =MAX(G7,0) -> 0 | H13: =MAX(H7,0) -> 0 | I13: =MAX(I7,0) -> 0 | ... DH13: =MAX(DH7,0) -> 46584
A15: rote Fläche positiv | B15: =MAX(B5,0) -> 0 | C15: =MAX(C5,0) -> 0 | D15: =MAX(D5,0) -> 0 | E15: =MAX(E5,0) -> 0 | F15: =MAX(F5,0) -> 0 | G15: =MAX(G5,0) -> 0 | H15: =MAX(H5,0) -> 0 | I15: =MAX(I5,0) -> 0 | ... DH15: =MAX(DH5,0) -> 0
A17: rote Fläche negativ | B17: =MIN(B7,0) -> -3718 | C17: =MIN(C7,0) -> -5980.6 | D17: =MIN(D7,0) -> -8243.2 | E17: =MIN(E7,0) -> -10505.8 | F17: =MIN(F7,0) -> -12768.4 | G17: =MIN(G7,0) -> -15031 | H17: =MIN(H7,0) -> -17293.6 | I17: =MIN(I7,0) -> -19556.2 | ... DH17: =MIN(DH7,0) -> 0
A19: grüne Fläche negativ | B19: =MIN(B5,0) -> 0 | C19: =MIN(C5,0) -> 0 | D19: =MIN(D5,0) -> 0 | E19: =MIN(E5,0) -> 0 | F19: =MIN(F5,0) -> 0 | G19: =MIN(G5,0) -> 0 | H19: =MIN(H5,0) -> 0 | I19: =MIN(I5,0) -> 0 | ... DH19: =MIN(DH5,0) -> 0
A21: grün oben | B21: =IF(B4<>"",IF(B7>=B5,B7,""),"") | C21: =IF(C4<>"",IF(C7>=C5,C7,""),"") | D21: =IF(D4<>"",IF(D7>=D5,D7,""),"") | E21: =IF(E4<>"",IF(E7>=E5,E7,""),"") | F21: =IF(F4<>"",IF(F7>=F5,F7,""),"") | G21: =IF(G4<>"",IF(G7>=G5,G7,""),"") | H21: =IF(H4<>"",IF(H7>=H5,H7,""),"") | I21: =IF(I4<>"",IF(I7>=I5,I7,""),"") | ... DH21: =IF(DH4<>"",IF(DH7>=DH5,DH7,""),"") -> 46584
A22: grün unten | B22: =IF(B4<>"",IF(B7<B5,B7,""),"") -> -3718 | C22: =IF(C4<>"",IF(C7<C5,C7,""),"") | D22: =IF(D4<>"",IF(D7<D5,D7,""),"") | E22: =IF(E4<>"",IF(E7<E5,E7,""),"") | F22: =IF(F4<>"",IF(F7<F5,F7,""),"") | G22: =IF(G4<>"",IF(G7<G5,G7,""),"") | H22: =IF(H4<>"",IF(H7<H5,H7,""),"") | I22: =IF(I4<>"",IF(I7<I5,I7,""),"") | ... DH22: =IF(DH4<>"",IF(DH7<DH5,DH7,""),"")
A23: rot oben | B23: =IF(B4<>"",IF(B7<B5,B5,""),"") -> 0 | C23: =IF(C4<>"",IF(C7<C5,C5,""),"") | D23: =IF(D4<>"",IF(D7<D5,D5,""),"") | E23: =IF(E4<>"",IF(E7<E5,E5,""),"") | F23: =IF(F4<>"",IF(F7<F5,F5,""),"") | G23: =IF(G4<>"",IF(G7<G5,G5,""),"") | H23: =IF(H4<>"",IF(H7<H5,H5,""),"") | I23: =IF(I4<>"",IF(I7<I5,I5,""),"") | ... DH23: =IF(DH4<>"",IF(DH7<DH5,DH5,""),"")
A24: rot unten | B24: =IF(B4<>"",IF(B7>=B5,B5,""),"") | C24: =IF(C4<>"",IF(C7>=C5,C5,""),"") | D24: =IF(D4<>"",IF(D7>=D5,D5,""),"") | E24: =IF(E4<>"",IF(E7>=E5,E5,""),"") | F24: =IF(F4<>"",IF(F7>=F5,F5,""),"") | G24: =IF(G4<>"",IF(G7>=G5,G5,""),"") | H24: =IF(H4<>"",IF(H7>=H5,H5,""),"") | I24: =IF(I4<>"",IF(I7>=I5,I5,""),"") | ... DH24: =IF(DH4<>"",IF(DH7>=DH5,DH5,""),"") -> 0
